BEGIN:VCALENDAR
VERSION:2.0
PRODID:-//Andy&#039;s Records - ECPv6.15.20//NONSGML v1.0//EN
CALSCALE:GREGORIAN
METHOD:PUBLISH
X-ORIGINAL-URL:http://andysrecords.shop
X-WR-CALDESC:Events for Andy&#039;s Records
REFRESH-INTERVAL;VALUE=DURATION:PT1H
X-Robots-Tag:noindex
X-PUBLISHED-TTL:PT1H
BEGIN:VTIMEZONE
TZID:America/Chicago
BEGIN:DAYLIGHT
TZOFFSETFROM:-0600
TZOFFSETTO:-0500
TZNAME:CDT
DTSTART:20240310T080000
END:DAYLIGHT
BEGIN:STANDARD
TZOFFSETFROM:-0500
TZOFFSETTO:-0600
TZNAME:CST
DTSTART:20241103T070000
END:STANDARD
BEGIN:DAYLIGHT
TZOFFSETFROM:-0600
TZOFFSETTO:-0500
TZNAME:CDT
DTSTART:20250309T080000
END:DAYLIGHT
BEGIN:STANDARD
TZOFFSETFROM:-0500
TZOFFSETTO:-0600
TZNAME:CST
DTSTART:20251102T070000
END:STANDARD
BEGIN:DAYLIGHT
TZOFFSETFROM:-0600
TZOFFSETTO:-0500
TZNAME:CDT
DTSTART:20260308T080000
END:DAYLIGHT
BEGIN:STANDARD
TZOFFSETFROM:-0500
TZOFFSETTO:-0600
TZNAME:CST
DTSTART:20261101T070000
END:STANDARD
END:VTIMEZONE
BEGIN:VEVENT
DTSTART;TZID=America/Chicago:20250824T110000
DTEND;TZID=America/Chicago:20250824T180000
DTSTAMP:20260423T140027
CREATED:20250725T205358Z
LAST-MODIFIED:20250804T203725Z
UID:470-1756033200-1756058400@andysrecords.shop
SUMMARY:Andy Fest 2025!
DESCRIPTION:Join us for the 2nd annual Andy Fest\, our one day\, mini New Orleans-style Jazz Festival! Once again the festival will kick-off with our Jazz Brunch from 11AM-1PM. A unique and intimate\, gourmet meal with a fixed menu catered by Siege Food and accompanied by a live concert performance from The Westerlees! Ticket incudes: meal (served family-style)\, drinks\, private performance and Andy Fest gift! \nAll performances after the brunch are FREE to the public. \nWe will keep it going with local favorites Chapin Jazz X-Tet from 2pm-3pm. \nNewcomers JT2 will play from 3:30pm-4:30pm \nAnd we’re excited to welcome back Cole DeGenova and his trio to close out the day from 5pm-6pm.
URL:http://andysrecords.shop/event/andy-fest-2025/
LOCATION:Andy’s Records\, 16 North Whitney Street\, Grayslake\, IL\, 60030\, United States
END:VEVENT
BEGIN:VEVENT
DTSTART;TZID=America/Chicago:20250827T180000
DTEND;TZID=America/Chicago:20250827T210000
DTSTAMP:20260423T140027
CREATED:20250725T205952Z
LAST-MODIFIED:20250725T210024Z
UID:475-1756317600-1756328400@andysrecords.shop
SUMMARY:Vinyl Listening Club
DESCRIPTION:Welcome to Andy’s Records Vinyl Listening Club! \nEach month we will gather to listen to and dissect a selected vinyl album with a group of like-minded music lovers over snacks and drinks (BYOB). We encourage you to listen in any way you can ahead of the meeting and be prepared to participate in a casual discussion about the album. Your $10 ticket will include admission\, snacks\, exclusive shopping and a raffle ticket for a drawing we will do that evening (the raffle winner also gets to pick our next album if they want to!).
URL:http://andysrecords.shop/event/vinyl-listening-club-11/
LOCATION:Andy’s Records\, 16 North Whitney Street\, Grayslake\, IL\, 60030\, United States
END:VEVENT
END:VCALENDAR