BEGIN:VCALENDAR
VERSION:2.0
PRODID:-//Andy&#039;s Records - ECPv6.15.20//NONSGML v1.0//EN
CALSCALE:GREGORIAN
METHOD:PUBLISH
X-ORIGINAL-URL:http://andysrecords.shop
X-WR-CALDESC:Events for Andy&#039;s Records
REFRESH-INTERVAL;VALUE=DURATION:PT1H
X-Robots-Tag:noindex
X-PUBLISHED-TTL:PT1H
BEGIN:VTIMEZONE
TZID:America/Chicago
BEGIN:DAYLIGHT
TZOFFSETFROM:-0600
TZOFFSETTO:-0500
TZNAME:CDT
DTSTART:20240310T080000
END:DAYLIGHT
BEGIN:STANDARD
TZOFFSETFROM:-0500
TZOFFSETTO:-0600
TZNAME:CST
DTSTART:20241103T070000
END:STANDARD
BEGIN:DAYLIGHT
TZOFFSETFROM:-0600
TZOFFSETTO:-0500
TZNAME:CDT
DTSTART:20250309T080000
END:DAYLIGHT
BEGIN:STANDARD
TZOFFSETFROM:-0500
TZOFFSETTO:-0600
TZNAME:CST
DTSTART:20251102T070000
END:STANDARD
BEGIN:DAYLIGHT
TZOFFSETFROM:-0600
TZOFFSETTO:-0500
TZNAME:CDT
DTSTART:20260308T080000
END:DAYLIGHT
BEGIN:STANDARD
TZOFFSETFROM:-0500
TZOFFSETTO:-0600
TZNAME:CST
DTSTART:20261101T070000
END:STANDARD
END:VTIMEZONE
BEGIN:VEVENT
DTSTART;TZID=America/Chicago:20250719T190000
DTEND;TZID=America/Chicago:20250719T220000
DTSTAMP:20260423T151837
CREATED:20250624T213403Z
LAST-MODIFIED:20250624T213715Z
UID:448-1752951600-1752962400@andysrecords.shop
SUMMARY:Andy's Records Live w/ Ocean Child and Emil James!
DESCRIPTION:Andy’s Records Live continues as we welcome Chicago’s Ocean Child! Raspy vocals\, bright surf-tinged guitar riffs and funk/soul bass lines combine to create Ocean Child’s unique brand of indie-pop. With support from local favorite Emil James\, it’s sure to be a great show! Doors at 6:30PM\, music at 7PM. All shows are FREE and ALL AGES!
URL:http://andysrecords.shop/event/andys-records-live-w-ocean-child-and-emil-james/
LOCATION:Andy’s Records\, 16 North Whitney Street\, Grayslake\, IL\, 60030\, United States
END:VEVENT
BEGIN:VEVENT
DTSTART;TZID=America/Chicago:20250727T110000
DTEND;TZID=America/Chicago:20250727T140000
DTSTAMP:20260423T151837
CREATED:20250624T211743Z
LAST-MODIFIED:20250624T214132Z
UID:445-1753614000-1753624800@andysrecords.shop
SUMMARY:Hip-Hop Sundays
DESCRIPTION:Join us in the store once a month as we break out the ones and twos for some coffee\, beats and vibes. We will spin some of our favorite hip-hop albums over coffee and pastries with the occasional pop-in performance from local DJs or MCs. Free\, all ages.
URL:http://andysrecords.shop/event/hip-hop-sundays-6/
LOCATION:Andy’s Records\, 16 North Whitney Street\, Grayslake\, IL\, 60030\, United States
END:VEVENT
BEGIN:VEVENT
DTSTART;TZID=America/Chicago:20250730T180000
DTEND;TZID=America/Chicago:20250730T200000
DTSTAMP:20260423T151837
CREATED:20250624T213948Z
LAST-MODIFIED:20250705T205349Z
UID:454-1753898400-1753905600@andysrecords.shop
SUMMARY:Vinyl Listening Club
DESCRIPTION:Welcome to Andy’s Records Vinyl Listening Club! \nEach month we will gather to listen to and dissect a selected vinyl album with a group of like-minded music lovers over snacks and drinks (BYOB). We encourage you to listen in any way you can ahead of the meeting and be prepared to participate in a casual discussion about the album. Your $10 ticket will include admission\, snacks\, exclusive shopping and a raffle ticket for a drawing we will do that evening (the raffle winner also gets to pick our next album if they want to!). \nRegister here: https://www.eventbrite.com/e/vinyl-listening-club-july-registration-1432228316449?aff=oddtdtcreator \nThis month marks the 1 year anniversary of our little club and the album selection is… It’s a Wonderful Life by Sparklehorse! Released in 2001\, it’s the third studio album from the Mark Linkous led project and represents the first time that Linkous didn’t play/produce by himself in his home studio. The album was co-produced by Dave Fridmann and John Parish and features guest apperances from both Fridmann and Parish as well as Tom Waits\, PJ Harvey\, Vic Chesnutt and Nina Persson. I absolutely LOVE this album and can’t wait to listen to it with all of you! \n\n\n \nLinks to listen: \nSpotify: https://open.spotify.com/album/6iP3HGmoRXFUrKiml2QVkz?si=LTZAdb3QSCWg8fMd3zJFvA \nApple: https://music.apple.com/us/album/its-a-wonderful-life/1461512623 \n 
URL:http://andysrecords.shop/event/vinyl-listening-club-10/
LOCATION:Andy’s Records\, 16 North Whitney Street\, Grayslake\, IL\, 60030\, United States
END:VEVENT
END:VCALENDAR