BEGIN:VCALENDAR
VERSION:2.0
PRODID:-//Andy&#039;s Records - ECPv6.15.20//NONSGML v1.0//EN
CALSCALE:GREGORIAN
METHOD:PUBLISH
X-ORIGINAL-URL:http://andysrecords.shop
X-WR-CALDESC:Events for Andy&#039;s Records
REFRESH-INTERVAL;VALUE=DURATION:PT1H
X-Robots-Tag:noindex
X-PUBLISHED-TTL:PT1H
BEGIN:VTIMEZONE
TZID:America/Chicago
BEGIN:DAYLIGHT
TZOFFSETFROM:-0600
TZOFFSETTO:-0500
TZNAME:CDT
DTSTART:20240310T080000
END:DAYLIGHT
BEGIN:STANDARD
TZOFFSETFROM:-0500
TZOFFSETTO:-0600
TZNAME:CST
DTSTART:20241103T070000
END:STANDARD
BEGIN:DAYLIGHT
TZOFFSETFROM:-0600
TZOFFSETTO:-0500
TZNAME:CDT
DTSTART:20250309T080000
END:DAYLIGHT
BEGIN:STANDARD
TZOFFSETFROM:-0500
TZOFFSETTO:-0600
TZNAME:CST
DTSTART:20251102T070000
END:STANDARD
BEGIN:DAYLIGHT
TZOFFSETFROM:-0600
TZOFFSETTO:-0500
TZNAME:CDT
DTSTART:20260308T080000
END:DAYLIGHT
BEGIN:STANDARD
TZOFFSETFROM:-0500
TZOFFSETTO:-0600
TZNAME:CST
DTSTART:20261101T070000
END:STANDARD
END:VTIMEZONE
BEGIN:VEVENT
DTSTART;TZID=America/Chicago:20250501T193000
DTEND;TZID=America/Chicago:20250501T204500
DTSTAMP:20260423T181953
CREATED:20250319T131858Z
LAST-MODIFIED:20250416T180821Z
UID:389-1746127800-1746132300@andysrecords.shop
SUMMARY:Flow and Spin
DESCRIPTION:Join Kristin from Trillium Yoga for a feel good flow while Nick spins some vinyl. Class will take place in the record shop at 16 N Whitney St. Grayslake IL and space is limited to 10 peeps so advanced registration is required. Bring your mat and your moves…Let’s groove!\n\n Investment for a Good Time:$30\n\n https://clients.mindbodyonline.com/classic/ws?studioid=639078&stype=-8&sVT=306&sView=day&sLoc=0
URL:http://andysrecords.shop/event/flow-and-spin/
LOCATION:Andy’s Records\, 16 North Whitney Street\, Grayslake\, IL\, 60030\, United States
END:VEVENT
BEGIN:VEVENT
DTSTART;TZID=America/Chicago:20250516T183000
DTEND;TZID=America/Chicago:20250516T210000
DTSTAMP:20260423T181953
CREATED:20250308T225751Z
LAST-MODIFIED:20250408T215003Z
UID:379-1747420200-1747429200@andysrecords.shop
SUMMARY:Andy's Records Live w/ Gina Marie and the Golden Bucks
DESCRIPTION:Andy’s Records Live presents: Gina Marie and the Golden Bucks! Join us for a live in-store performance from Gina Marie and the Golden Bucks\, a 5 piece country/western/americana group that’s sure to have you moving! Bring your dancing shoes and your western wear! All shows are FREE and ALL AGES. Doors at 6:30pm\, music at 7pm.
URL:http://andysrecords.shop/event/andys-records-live-w-gina-marie-and-the-golden-bucks/
LOCATION:Andy’s Records\, 16 North Whitney Street\, Grayslake\, IL\, 60030\, United States
END:VEVENT
BEGIN:VEVENT
DTSTART;TZID=America/Chicago:20250525T110000
DTEND;TZID=America/Chicago:20250525T140000
DTSTAMP:20260423T181953
CREATED:20250319T132344Z
LAST-MODIFIED:20250319T132426Z
UID:398-1748170800-1748181600@andysrecords.shop
SUMMARY:Hip-hop Sundays
DESCRIPTION:Join us in the store once a month as we break out the ones and twos for some coffee\, beats and vibes. We will spin some of our favorite hip-hop albums over coffee and pastries with the occasional pop-in performance from local DJs or MCs. Free\, all ages.
URL:http://andysrecords.shop/event/hip-hop-sundays-4/
LOCATION:Andy’s Records\, 16 North Whitney Street\, Grayslake\, IL\, 60030\, United States
END:VEVENT
BEGIN:VEVENT
DTSTART;TZID=America/Chicago:20250528T180000
DTEND;TZID=America/Chicago:20250528T210000
DTSTAMP:20260423T181953
CREATED:20250319T130833Z
LAST-MODIFIED:20250501T143714Z
UID:386-1748455200-1748466000@andysrecords.shop
SUMMARY:Vinyl Listening Club
DESCRIPTION:Welcome to Andy’s Records Vinyl Listening Club! \nEach month we will gather to listen to and dissect a selected vinyl album with a group of like-minded music lovers over snacks and drinks (BYOB). We encourage you to listen in any way you can ahead of the meeting and be prepared to participate in a casual discussion about the album. Your $10 ticket will include admission\, snacks\, swag\, exclusive shopping and a raffle ticket for a drawing we will do that evening (the raffle winner also gets to pick our next album if they want to!). \nThis month’s selection is Wrong by Nomeansno! Released in 1989\, it’s the fourth full-length album from the Canadian punk rockers and is considered to be their best and most popular work. We’re super excited to dive into it with you so sign up now! \nLinks to listen: \nSpotify: https://open.spotify.com/album/0mMK48ckhF503mKfuh0UPl?si=f0enWGQiSaybPB2_WSVIHA \nApple Music: https://music.apple.com/us/album/wrong/1745769742
URL:http://andysrecords.shop/event/vinyl-listening-club-8/
LOCATION:Andy’s Records\, 16 North Whitney Street\, Grayslake\, IL\, 60030\, United States
END:VEVENT
END:VCALENDAR