BEGIN:VCALENDAR
VERSION:2.0
PRODID:-//Andy&#039;s Records - ECPv6.15.20//NONSGML v1.0//EN
CALSCALE:GREGORIAN
METHOD:PUBLISH
X-WR-CALNAME:Andy&#039;s Records
X-ORIGINAL-URL:http://andysrecords.shop
X-WR-CALDESC:Events for Andy&#039;s Records
REFRESH-INTERVAL;VALUE=DURATION:PT1H
X-Robots-Tag:noindex
X-PUBLISHED-TTL:PT1H
BEGIN:VTIMEZONE
TZID:America/Chicago
BEGIN:DAYLIGHT
TZOFFSETFROM:-0600
TZOFFSETTO:-0500
TZNAME:CDT
DTSTART:20230312T080000
END:DAYLIGHT
BEGIN:STANDARD
TZOFFSETFROM:-0500
TZOFFSETTO:-0600
TZNAME:CST
DTSTART:20231105T070000
END:STANDARD
BEGIN:DAYLIGHT
TZOFFSETFROM:-0600
TZOFFSETTO:-0500
TZNAME:CDT
DTSTART:20240310T080000
END:DAYLIGHT
BEGIN:STANDARD
TZOFFSETFROM:-0500
TZOFFSETTO:-0600
TZNAME:CST
DTSTART:20241103T070000
END:STANDARD
BEGIN:DAYLIGHT
TZOFFSETFROM:-0600
TZOFFSETTO:-0500
TZNAME:CDT
DTSTART:20250309T080000
END:DAYLIGHT
BEGIN:STANDARD
TZOFFSETFROM:-0500
TZOFFSETTO:-0600
TZNAME:CST
DTSTART:20251102T070000
END:STANDARD
END:VTIMEZONE
BEGIN:VEVENT
DTSTART;TZID=America/Chicago:20241027T140000
DTEND;TZID=America/Chicago:20241027T150000
DTSTAMP:20260421T235115
CREATED:20241002T153750Z
LAST-MODIFIED:20241014T221842Z
UID:193-1730037600-1730041200@andysrecords.shop
SUMMARY:Live from Andy's Records with The Westerlees!
DESCRIPTION:Mark your calendars for our next Live at Any’s Records event with an in-store performance from The Westerlees!!! We’re so excited to have some old-time hot jazz in the shop so bring your dancing shoes and join us for a good time! As always this show is FREE and ALL AGES!
URL:http://andysrecords.shop/event/live-from-andys-records-with-the-westerlees/
LOCATION:Andy’s Records\, 16 North Whitney Street\, Grayslake\, IL\, 60030\, United States
END:VEVENT
BEGIN:VEVENT
DTSTART;TZID=America/Chicago:20241016T180000
DTEND;TZID=America/Chicago:20241016T200000
DTSTAMP:20260421T235115
CREATED:20241002T152923Z
LAST-MODIFIED:20241014T221817Z
UID:183-1729101600-1729108800@andysrecords.shop
SUMMARY:Vinyl Listening Club
DESCRIPTION:Welcome to Andy’s Records Vinyl Listening Club! \nEach month we will gather to listen to and dissect a selected vinyl album with a group of like-minded music lovers over snacks and drinks (BYOB). We encourage you to listen in any way you can ahead of the meeting and be prepared to participate in a casual discussion about the album. We will also have a limited number of copies available on vinyl for purchase (if anyone would like to preorder a copy please let me know and we can make sure to get extras). Your $10 ticket will include admission\, snacks\, swag\, exclusive shopping and a raffle ticket for a drawing we will do that evening (the raffle winner also gets to pick our next album if they want to!). \n \nThis month’s selection is Key Lime Pie by Camper Van Beethoven! Released in 1989\, it was the band’s final album before breaking up in 1990. In keeping with our new tradition\, this album was selected by last month’s raffle winner and we are both super excited to listen to and discuss it with you! \nLinks to listen: \nhttps://youtube.com/playlist?list=OLAK5uy_mgdr_VpyUTbri5VO2wEfLW-6DFZzV1jj0&si=o3Ck5MxnqneJimKB
URL:http://andysrecords.shop/event/vinyl-listening-club/
LOCATION:Andy’s Records\, 16 North Whitney Street\, Grayslake\, IL\, 60030\, United States
END:VEVENT
END:VCALENDAR