BEGIN:VCALENDAR
VERSION:2.0
PRODID:-//Andy&#039;s Records - ECPv6.15.20//NONSGML v1.0//EN
CALSCALE:GREGORIAN
METHOD:PUBLISH
X-ORIGINAL-URL:http://andysrecords.shop
X-WR-CALDESC:Events for Andy&#039;s Records
REFRESH-INTERVAL;VALUE=DURATION:PT1H
X-Robots-Tag:noindex
X-PUBLISHED-TTL:PT1H
BEGIN:VTIMEZONE
TZID:America/Chicago
BEGIN:DAYLIGHT
TZOFFSETFROM:-0600
TZOFFSETTO:-0500
TZNAME:CDT
DTSTART:20250309T080000
END:DAYLIGHT
BEGIN:STANDARD
TZOFFSETFROM:-0500
TZOFFSETTO:-0600
TZNAME:CST
DTSTART:20251102T070000
END:STANDARD
BEGIN:DAYLIGHT
TZOFFSETFROM:-0600
TZOFFSETTO:-0500
TZNAME:CDT
DTSTART:20260308T080000
END:DAYLIGHT
BEGIN:STANDARD
TZOFFSETFROM:-0500
TZOFFSETTO:-0600
TZNAME:CST
DTSTART:20261101T070000
END:STANDARD
BEGIN:DAYLIGHT
TZOFFSETFROM:-0600
TZOFFSETTO:-0500
TZNAME:CDT
DTSTART:20270314T080000
END:DAYLIGHT
BEGIN:STANDARD
TZOFFSETFROM:-0500
TZOFFSETTO:-0600
TZNAME:CST
DTSTART:20271107T070000
END:STANDARD
END:VTIMEZONE
BEGIN:VEVENT
DTSTART;TZID=America/Chicago:20260118T120000
DTEND;TZID=America/Chicago:20260118T150000
DTSTAMP:20260421T082051
CREATED:20251230T145431Z
LAST-MODIFIED:20260107T171512Z
UID:601-1768737600-1768748400@andysrecords.shop
SUMMARY:Hip-hop Sunday AND featured artist meet and greet!
DESCRIPTION:Join us for hip-hop Sunday where we enjoy some coffee\, beats and vibes with DJ Special Ed. Plus come check out our newest featured artist Kieth Ryan! Meet the artist\, checkout his work and enjoy a super chill Sunday with us!
URL:http://andysrecords.shop/event/hip-hop-sunday-and-featured-artist-meet-and-greet/
LOCATION:Andy’s Records\, 16 North Whitney Street\, Grayslake\, IL\, 60030\, United States
END:VEVENT
END:VCALENDAR