BEGIN:VCALENDAR
VERSION:2.0
PRODID:-//Andy&#039;s Records - ECPv6.15.20//NONSGML v1.0//EN
CALSCALE:GREGORIAN
METHOD:PUBLISH
X-ORIGINAL-URL:http://andysrecords.shop
X-WR-CALDESC:Events for Andy&#039;s Records
REFRESH-INTERVAL;VALUE=DURATION:PT1H
X-Robots-Tag:noindex
X-PUBLISHED-TTL:PT1H
BEGIN:VTIMEZONE
TZID:America/Chicago
BEGIN:DAYLIGHT
TZOFFSETFROM:-0600
TZOFFSETTO:-0500
TZNAME:CDT
DTSTART:20250309T080000
END:DAYLIGHT
BEGIN:STANDARD
TZOFFSETFROM:-0500
TZOFFSETTO:-0600
TZNAME:CST
DTSTART:20251102T070000
END:STANDARD
BEGIN:DAYLIGHT
TZOFFSETFROM:-0600
TZOFFSETTO:-0500
TZNAME:CDT
DTSTART:20260308T080000
END:DAYLIGHT
BEGIN:STANDARD
TZOFFSETFROM:-0500
TZOFFSETTO:-0600
TZNAME:CST
DTSTART:20261101T070000
END:STANDARD
BEGIN:DAYLIGHT
TZOFFSETFROM:-0600
TZOFFSETTO:-0500
TZNAME:CDT
DTSTART:20270314T080000
END:DAYLIGHT
BEGIN:STANDARD
TZOFFSETFROM:-0500
TZOFFSETTO:-0600
TZNAME:CST
DTSTART:20271107T070000
END:STANDARD
END:VTIMEZONE
BEGIN:VEVENT
DTSTART;TZID=America/Chicago:20260113T180000
DTEND;TZID=America/Chicago:20260113T200000
DTSTAMP:20260421T082117
CREATED:20251229T195013Z
LAST-MODIFIED:20251229T195013Z
UID:594-1768327200-1768334400@andysrecords.shop
SUMMARY:Vinyl Listening Club
DESCRIPTION:Welcome to Andy’s Records Vinyl Listening Club! \nEach month we will gather to listen to and dissect a selected vinyl album with a group of like-minded music lovers over snacks and drinks (BYOB). We encourage you to listen in any way you can ahead of the meeting and be prepared to participate in a casual discussion about the album. Your $10 ticket will include admission\, snacks\, exclusive shopping and a raffle ticket for a drawing we will do that evening (the raffle winner also gets to pick our next album if they want to!). \n \nThis month’s selection is… Feel it Break… by Austra! Released in 2011\, it is the debut studio album from the Canadian electronic music band. Critically well received\, the album was complimented for it production and vocals\, drawing comparisons to Kate Bush\, Cocteau Twins\, Fever Ray and Depeche Mode. We’re super excited to listen to and discuss with you all\, so sign up now! \nRegister here: https://www.eventbrite.com/e/vinyl-listening-club-january-registration-1979256568677?aff=oddtdtcreator \n 
URL:http://andysrecords.shop/event/vinyl-listening-club-12-2-2-2-2/
LOCATION:Andy’s Records\, 16 North Whitney Street\, Grayslake\, IL\, 60030\, United States
END:VEVENT
END:VCALENDAR