BEGIN:VCALENDAR
VERSION:2.0
PRODID:-//Andy&#039;s Records - ECPv6.15.20//NONSGML v1.0//EN
CALSCALE:GREGORIAN
METHOD:PUBLISH
X-ORIGINAL-URL:http://andysrecords.shop
X-WR-CALDESC:Events for Andy&#039;s Records
REFRESH-INTERVAL;VALUE=DURATION:PT1H
X-Robots-Tag:noindex
X-PUBLISHED-TTL:PT1H
BEGIN:VTIMEZONE
TZID:America/Chicago
BEGIN:DAYLIGHT
TZOFFSETFROM:-0600
TZOFFSETTO:-0500
TZNAME:CDT
DTSTART:20240310T080000
END:DAYLIGHT
BEGIN:STANDARD
TZOFFSETFROM:-0500
TZOFFSETTO:-0600
TZNAME:CST
DTSTART:20241103T070000
END:STANDARD
BEGIN:DAYLIGHT
TZOFFSETFROM:-0600
TZOFFSETTO:-0500
TZNAME:CDT
DTSTART:20250309T080000
END:DAYLIGHT
BEGIN:STANDARD
TZOFFSETFROM:-0500
TZOFFSETTO:-0600
TZNAME:CST
DTSTART:20251102T070000
END:STANDARD
BEGIN:DAYLIGHT
TZOFFSETFROM:-0600
TZOFFSETTO:-0500
TZNAME:CDT
DTSTART:20260308T080000
END:DAYLIGHT
BEGIN:STANDARD
TZOFFSETFROM:-0500
TZOFFSETTO:-0600
TZNAME:CST
DTSTART:20261101T070000
END:STANDARD
END:VTIMEZONE
BEGIN:VEVENT
DTSTART;TZID=America/Chicago:20251125T180000
DTEND;TZID=America/Chicago:20251125T200000
DTSTAMP:20260421T110635
CREATED:20251014T182033Z
LAST-MODIFIED:20251104T193118Z
UID:545-1764093600-1764100800@andysrecords.shop
SUMMARY:Vinyl Listening Club
DESCRIPTION:Welcome to Andy’s Records Vinyl Listening Club! \nEach month we will gather to listen to and dissect a selected vinyl album with a group of like-minded music lovers over snacks and drinks (BYOB). We encourage you to listen in any way you can ahead of the meeting and be prepared to participate in a casual discussion about the album. Your $10 ticket will include admission\, snacks\, exclusive shopping and a raffle ticket for a drawing we will do that evening (the raffle winner also gets to pick our next album if they want to!). \nThis month’s selection is… LOST SOULS by DOVES! Released in 2000\, Lost Souls is the debut studio album from the English indie rock band and was received with critical acclaim. This one is also a bit of a rarity so we’re lucky and excited to have a copy on vinyl to listen to and share with you all! \nRegister now: https://www.eventbrite.com/e/vinyl-listening-club-november-registration-1962498420605?aff=oddtdtcreator \nLinks to listen: \nSpotify: https://open.spotify.com/album/33nyNThvBKPzS4NGdnWACf?si=sszkEYDaQdCbz8oTVoVGeA \nApple: https://music.apple.com/us/album/lost-souls/724350250
URL:http://andysrecords.shop/event/vinyl-listening-club-12-2-2/
LOCATION:Andy’s Records\, 16 North Whitney Street\, Grayslake\, IL\, 60030\, United States
END:VEVENT
END:VCALENDAR