BEGIN:VCALENDAR
VERSION:2.0
PRODID:-//Andy&#039;s Records - ECPv6.15.20//NONSGML v1.0//EN
CALSCALE:GREGORIAN
METHOD:PUBLISH
X-ORIGINAL-URL:http://andysrecords.shop
X-WR-CALDESC:Events for Andy&#039;s Records
REFRESH-INTERVAL;VALUE=DURATION:PT1H
X-Robots-Tag:noindex
X-PUBLISHED-TTL:PT1H
BEGIN:VTIMEZONE
TZID:America/Chicago
BEGIN:DAYLIGHT
TZOFFSETFROM:-0600
TZOFFSETTO:-0500
TZNAME:CDT
DTSTART:20240310T080000
END:DAYLIGHT
BEGIN:STANDARD
TZOFFSETFROM:-0500
TZOFFSETTO:-0600
TZNAME:CST
DTSTART:20241103T070000
END:STANDARD
BEGIN:DAYLIGHT
TZOFFSETFROM:-0600
TZOFFSETTO:-0500
TZNAME:CDT
DTSTART:20250309T080000
END:DAYLIGHT
BEGIN:STANDARD
TZOFFSETFROM:-0500
TZOFFSETTO:-0600
TZNAME:CST
DTSTART:20251102T070000
END:STANDARD
BEGIN:DAYLIGHT
TZOFFSETFROM:-0600
TZOFFSETTO:-0500
TZNAME:CDT
DTSTART:20260308T080000
END:DAYLIGHT
BEGIN:STANDARD
TZOFFSETFROM:-0500
TZOFFSETTO:-0600
TZNAME:CST
DTSTART:20261101T070000
END:STANDARD
END:VTIMEZONE
BEGIN:VEVENT
DTSTART;TZID=America/Chicago:20250415T180000
DTEND;TZID=America/Chicago:20250415T210000
DTSTAMP:20260423T212719
CREATED:20250308T223656Z
LAST-MODIFIED:20250327T213143Z
UID:370-1744740000-1744750800@andysrecords.shop
SUMMARY:Vinyl Listening Club
DESCRIPTION:Welcome to Andy’s Records Vinyl Listening Club! \nEach month we will gather to listen to and dissect a selected vinyl album with a group of like-minded music lovers over snacks and drinks (BYOB). We encourage you to listen in any way you can ahead of the meeting and be prepared to participate in a casual discussion about the album. We will also have a limited number of copies available on vinyl for purchase (if anyone would like to preorder a copy please let me know and we can make sure to get extras). Your $10 ticket will include admission\, snacks\, swag\, exclusive shopping and a raffle ticket for a drawing we will do that evening (the raffle winner also gets to pick our next album if they want to!). \nThis month’s selsection is The Flying Club Cup by Beirut! Released in 2007\, it is the 2nd studio album from the Balkin influenced indie-folk group though the music on this album has a French influence due to singer Zach Condon’s interest in French chanson during its recording. We’re VERY excited to listen to this one with you so sign up now!
URL:http://andysrecords.shop/event/vinyl-listening-club-7/
LOCATION:Andy’s Records\, 16 North Whitney Street\, Grayslake\, IL\, 60030\, United States
END:VEVENT
END:VCALENDAR